BEGIN:VCALENDAR
PRODID:-//eluceo/ical//2.0/EN
VERSION:2.0
CALSCALE:GREGORIAN
BEGIN:VEVENT
UID:7a31e6ecec66807152b28ffcdad15381
DTSTAMP:20260423T145527Z
SUMMARY:AMAT participa en el VII Seminario sobre "Bienestar Psicoemocional 
 de los trabajadores" de Fundación Filia
DTSTART:20210629T110000
DTEND:20210629T130000
LOCATION:Fundación Filia de Amparo al Menor. Av. de los Reyes Católicos\,
  6. 28220 Majadahonda.
END:VEVENT
END:VCALENDAR
