BEGIN:VCALENDAR
PRODID:-//eluceo/ical//2.0/EN
VERSION:2.0
CALSCALE:GREGORIAN
BEGIN:VEVENT
UID:146ecdcff854db9ee112a42226fbd57b
DTSTAMP:20260423T150307Z
SUMMARY:Próxima participación de Fraternidad-Muprespa en la Escuela de Ve
 rano de Foro RRHH
DTSTART:20210719T160000
DTEND:20210723T180000
LOCATION:FORO RRHH
END:VEVENT
END:VCALENDAR
