BEGIN:VCALENDAR
PRODID:-//eluceo/ical//2.0/EN
VERSION:2.0
CALSCALE:GREGORIAN
BEGIN:VEVENT
UID:ac763a96c885a362246a44a86aad5f68
DTSTAMP:20260423T145527Z
SUMMARY:Participación de Fraternidad-Muprespa en el "XIII Foro de Prevenci
 ón\, Tu previenes"
DTSTART:20220315T091500
DTEND:20220316T140000
LOCATION:Paraninfo de la Universidad Laboral de Gijón. C. Luis Moya Blanc
 o\, 261.
END:VEVENT
END:VCALENDAR
