BEGIN:VCALENDAR
PRODID:-//eluceo/ical//2.0/EN
VERSION:2.0
CALSCALE:GREGORIAN
BEGIN:VEVENT
UID:0d2b7fa0284938e8d72506f6609a7f41
DTSTAMP:20260419T125145Z
SUMMARY:Webinar de Encuentros con la Mutua. "Gestión de los procesos de IT
  más allá de los 365 y 545 días"
DTSTART:20260115T090000
DTEND:20260115T100000
LOCATION:
END:VEVENT
END:VCALENDAR
