BEGIN:VCALENDAR
PRODID:-//eluceo/ical//2.0/EN
VERSION:2.0
CALSCALE:GREGORIAN
BEGIN:VEVENT
UID:2ae877a7f83a145a74140bcc04c4ecbc
DTSTAMP:20260424T110045Z
SUMMARY:Próxima Jornada "Herramientas para una comunicación más eficaz e
 n PRL” con CPRL Sevilla
DTSTART:20260429T091500
DTEND:20260429T133000
LOCATION:Centro de Prevención de Riesgos Laborales de Sevilla. C/ Carabela
  La Niña\, 16\, 41007 (Sevilla)
END:VEVENT
END:VCALENDAR
