BEGIN:VCALENDAR
PRODID:-//eluceo/ical//2.0/EN
VERSION:2.0
CALSCALE:GREGORIAN
BEGIN:VEVENT
UID:a32361a7dd7ca07ca86e46338c89d96c
DTSTAMP:20260424T164658Z
SUMMARY:Próxima Jornada "Avanzando hacia un entorno psicosocial saludable 
 en el trabajo” con ICASEL
DTSTART:20260430T090000
DTEND:20260430T114500
LOCATION:Instituto Canario de Seguridad Laboral\, ICASEL. C. Alicante\, 1 3
 5016 Las Palmas de Gran Canaria. Las Palmas.
END:VEVENT
END:VCALENDAR
