BEGIN:VCALENDAR
PRODID:-//eluceo/ical//2.0/EN
VERSION:2.0
CALSCALE:GREGORIAN
BEGIN:VEVENT
UID:879a6bbc4dabdeda6b9c384a3db2a0a7
DTSTAMP:20260423T150823Z
SUMMARY:Próxima participación de Fraternidad-Muprespa en el Foro "Nuevo p
 aradigma de liderazgo"
DTSTART:20210617T130000
DTEND:20210617T140000
LOCATION:FORO DE RECURSOS HUMANOS
END:VEVENT
END:VCALENDAR
