BEGIN:VCALENDAR
PRODID:-//eluceo/ical//2.0/EN
VERSION:2.0
CALSCALE:GREGORIAN
BEGIN:VEVENT
UID:c43fdfad9261b55c2dbc33e17cf9dcd3
DTSTAMP:20260421T161129Z
SUMMARY:Aspectos jurídicos de la Vigilancia de la Salud
DTSTART:20260318T093000
DTEND:20260318T103000
LOCATION:
END:VEVENT
END:VCALENDAR
