BEGIN:VCALENDAR
PRODID:-//eluceo/ical//2.0/EN
VERSION:2.0
CALSCALE:GREGORIAN
BEGIN:VEVENT
UID:bbbe1bb4e42f1446f7c7e3629e219228
DTSTAMP:20260423T083057Z
SUMMARY:Webinar de Encuentros con la Mutua. "Construcción de la relación 
 jurídico procesal en procedimientos de S.S"
DTSTART:20260312T090000
DTEND:20260312T100000
LOCATION:
END:VEVENT
END:VCALENDAR
