BEGIN:VCALENDAR
PRODID:-//eluceo/ical//2.0/EN
VERSION:2.0
CALSCALE:GREGORIAN
BEGIN:VEVENT
UID:e2e77036e49bcf28c99bafdfde9c5789
DTSTAMP:20260423T110559Z
SUMMARY:Próxima participación con Prevencionar en el segundo "SafetyTalks
 : Comunicación y Conducta Segura” 
DTSTART:20260312T160000
DTEND:20260312T170000
LOCATION:
END:VEVENT
END:VCALENDAR
